BEGIN:VCALENDAR
VERSION:2.0
PRODID:DPCALENDAR
CALSCALE:GREGORIAN
BEGIN:VTIMEZONE
TZID:Europe/Berlin
X-MICROSOFT-CDO-TZID:4
BEGIN:STANDARD
DTSTART:20251026T010000
TZOFFSETFROM:+0200
TZOFFSETTO:+0100
TZNAME:CET
END:STANDARD
BEGIN:STANDARD
DTSTART:20261025T010000
TZOFFSETFROM:+0200
TZOFFSETTO:+0100
TZNAME:CET
END:STANDARD
BEGIN:DAYLIGHT
DTSTART:20260329T010000
TZOFFSETFROM:+0100
TZOFFSETTO:+0200
TZNAME:CEST
END:DAYLIGHT
END:VTIMEZONE
X-WR-TIMEZONE:Europe/Berlin
BEGIN:VEVENT
DTSTART;TZID=Europe/Berlin:20250228T200000
DTEND;TZID=Europe/Berlin:20250301T020000
UID:D5266F89-6CB0-4362-A91E-C29B2906C4D1
SUMMARY:Lumpenball
CREATED:20250204T111337Z
DTSTAMP:20250204T111337Z
URL:https://fc-geesdorf.de/component/dpcalendar/event/1?calid=90
LAST-MODIFIED:20250206T162401Z
SEQUENCE:191424
X-ACCESS:1
X-HITS:401
X-COLOR:3366cc
X-IMAGE-FULL:https://fc-geesdorf.de/images/Fasching-weiss_2025.jpg
X-SHOW-END-TIME:0
END:VEVENT
BEGIN:VEVENT
DTSTART;TZID=Europe/Berlin:20250329T190000
DTEND;TZID=Europe/Berlin:20250329T233000
UID:C1E7E747-0130-4DAE-B90A-3D15CDCD0509
SUMMARY:Starkbieranstich
CREATED:20250204T111605Z
DTSTAMP:20250204T111605Z
URL:https://fc-geesdorf.de/component/dpcalendar/event/2?calid=90
LAST-MODIFIED:20250204T120926Z
SEQUENCE:3201
X-ACCESS:1
X-HITS:392
X-COLOR:3366cc
X-SHOW-END-TIME:0
END:VEVENT
BEGIN:VEVENT
DTSTART;TZID=Europe/Berlin:20250405T200000
DTEND;TZID=Europe/Berlin:20250405T213000
UID:AB66B415-6B95-4135-9A87-35F2E997CE6C
SUMMARY:Jahreshauptversammlung
CREATED:20250204T111722Z
DTSTAMP:20250204T111722Z
URL:https://fc-geesdorf.de/component/dpcalendar/event/3?calid=90
LAST-MODIFIED:20250403T084751Z
SEQUENCE:5002229
X-ACCESS:1
X-HITS:398
X-COLOR:3366cc
X-SHOW-END-TIME:0
END:VEVENT
BEGIN:VEVENT
DTSTART;TZID=Europe/Berlin:20250412T200000
DTEND;TZID=Europe/Berlin:20250412T203000
UID:8A326D8F-E79F-4594-A69D-10E0A222FF7A
SUMMARY:Schafkopf Dorf- u. Vereinsmeisterschaft
CREATED:20250204T111802Z
DTSTAMP:20250204T111802Z
URL:https://fc-geesdorf.de/component/dpcalendar/event/4?calid=90
LAST-MODIFIED:20250403T084914Z
SEQUENCE:5002272
X-ACCESS:1
X-HITS:388
X-COLOR:3366cc
X-SHOW-END-TIME:0
END:VEVENT
BEGIN:VEVENT
DTSTART;TZID=Europe/Berlin:20250525T143000
DTEND;TZID=Europe/Berlin:20250525T203000
UID:E03C2A91-BC48-49E1-8E6B-5B4C95445DC7
SUMMARY:Meisterschaftsfeier
CREATED:20250523T084547Z
DTSTAMP:20250523T084547Z
URL:https://fc-geesdorf.de/component/dpcalendar/event/5?calid=90
LAST-MODIFIED:20250523T084547Z
SEQUENCE:0
X-ACCESS:1
X-HITS:276
X-COLOR:3366cc
X-SHOW-END-TIME:1
END:VEVENT
BEGIN:VEVENT
DTSTART;VALUE=DATE:20251121
DTEND;VALUE=DATE:20251125
UID:092D3FE5-CC42-4C3D-9B74-8AD52B93A969
SUMMARY:Kirchweih
CREATED:20251020T150824Z
DTSTAMP:20251020T150824Z
URL:https://fc-geesdorf.de/component/dpcalendar/event/6?calid=90
LAST-MODIFIED:20251020T150824Z
SEQUENCE:0
X-ACCESS:1
X-HITS:208
X-COLOR:3366cc
X-SHOW-END-TIME:0
END:VEVENT
BEGIN:VEVENT
DTSTART;TZID=Europe/Berlin:20251213T173000
DTEND;TZID=Europe/Berlin:20251213T220000
UID:AFD3AFAD-3F02-4FB9-947D-4F23E9B592CC
SUMMARY:Weihnachtsfeier
CREATED:20251129T134929Z
DTSTAMP:20251129T134929Z
URL:https://fc-geesdorf.de/component/dpcalendar/event/7?calid=90
LAST-MODIFIED:20251129T134929Z
SEQUENCE:0
X-ACCESS:1
X-HITS:115
X-COLOR:3366cc
X-SHOW-END-TIME:1
END:VEVENT
BEGIN:VEVENT
DTSTART;TZID=Europe/Berlin:20260103T171500
DTEND;TZID=Europe/Berlin:20260103T174500
UID:37784D42-67C3-483E-8E53-57779571529B
SUMMARY:Gaudi & Spaß Dart-Turnier
CREATED:20251129T135221Z
DTSTAMP:20251129T135221Z
URL:https://fc-geesdorf.de/component/dpcalendar/event/8?calid=90
LAST-MODIFIED:20251129T135221Z
SEQUENCE:0
X-ACCESS:1
X-HITS:130
X-COLOR:3366cc
X-SHOW-END-TIME:1
END:VEVENT
BEGIN:VEVENT
DTSTART;TZID=Europe/Berlin:20260109T173000
DTEND;TZID=Europe/Berlin:20260109T220000
UID:2D2EE6A2-A8A8-47DB-9EB2-13582B271AAD
SUMMARY:Dorf u. Vereins-Dart-Turnier
CREATED:20251129T135323Z
DTSTAMP:20251129T135323Z
URL:https://fc-geesdorf.de/component/dpcalendar/event/9?calid=90
LAST-MODIFIED:20251129T135323Z
SEQUENCE:0
X-ACCESS:1
X-HITS:101
X-COLOR:3366cc
X-SHOW-END-TIME:1
END:VEVENT
BEGIN:VEVENT
DTSTART;TZID=Europe/Berlin:20260213T200000
DTEND;TZID=Europe/Berlin:20260213T233000
UID:D747B79C-F7F0-4EE5-873B-73B7655D312C
SUMMARY:Lumpenball
CREATED:20260118T095848Z
DTSTAMP:20260118T095848Z
URL:https://fc-geesdorf.de/component/dpcalendar/event/10?calid=90
LAST-MODIFIED:20260118T095848Z
SEQUENCE:0
X-ACCESS:1
X-HITS:59
X-COLOR:3366cc
X-SHOW-END-TIME:0
END:VEVENT
BEGIN:VEVENT
DTSTART;TZID=Europe/Berlin:20260418T200000
DTEND;TZID=Europe/Berlin:20260418T230000
UID:37D221C7-5CD1-46C0-B3C8-2D933F1A9BF3
SUMMARY:Schafkopf Dorfmeisterschaft
CREATED:20260315T093518Z
DTSTAMP:20260315T093518Z
URL:https://fc-geesdorf.de/component/dpcalendar/event/11?calid=90
LAST-MODIFIED:20260330T090343Z
SEQUENCE:1294105
X-ACCESS:1
X-HITS:27
X-COLOR:3366cc
X-SHOW-END-TIME:1
END:VEVENT
END:VCALENDAR